BEGIN:VCALENDAR
VERSION:2.0
PRODID:-//ChamberMaster//Event Calendar 2.0//EN
METHOD:PUBLISH
X-PUBLISHED-TTL:P3D
REFRESH-INTERVAL:P3D
CALSCALE:GREGORIAN
BEGIN:VEVENT
DTSTART:20220517T150000Z
DTEND:20220517T160000Z
X-MICROSOFT-CDO-ALLDAYEVENT:FALSE
SUMMARY:Membership Roundtable
DESCRIPTION:The Iowa Association of Chambers of Commerce is excited to present the 2022 roundtable discussion series to our membership! Chamber professionals in all roles are encouraged to join quarterly topic-based roundtables to connect with their colleagues\, ask questions and get new ideas!
X-ALT-DESC;FMTTYPE=text/html:<span style="color:#3D3D3D\;"><span style="font-family:raleway\;"><span style="font-size:10.5pt\;">The Iowa Association of Chambers of Commerce is excited to present the 2022<strong>&nbsp\;roundtable discussion series</strong> to our membership! Chamber professionals in all roles are encouraged to join quarterly topic-based roundtables to connect with their colleagues\, ask questions and get new ideas!</span></span></span>
LOCATION:Meeting Registration - Zoom
UID:e.1466.576
SEQUENCE:3
DTSTAMP:20260424T052301Z
URL:https://business.iowachamber.net/events/details/membership-roundtable-05-17-2022-576
END:VEVENT

END:VCALENDAR
