BEGIN:VCALENDAR
VERSION:2.0
PRODID:-//ChamberMaster//Event Calendar 2.0//EN
METHOD:PUBLISH
X-PUBLISHED-TTL:P3D
REFRESH-INTERVAL:P3D
CALSCALE:GREGORIAN
BEGIN:VEVENT
DTSTART:20210310T190000Z
DTEND:20210310T200000Z
X-MICROSOFT-CDO-ALLDAYEVENT:FALSE
SUMMARY:Membership Call - (25\,000+)
DESCRIPTION:Register now for the ICCE Member Zoom Calls! The Iowa Chamber of Commerce Executives will be holding zoom calls this week to help you connect with your peers and discuss working in the chamber world. \n\n\n\nCalls will be facilitated by a member of the ICCE Board of Directors and broken out by community size.\n\n\n\nIf you are interested in participating\, please register for the call you would like to attend. Please feel free to join more than one call if it makes sense for your community.\n\n\n\nRegister
X-ALT-DESC;FMTTYPE=text/html:<div class="carina-rte-left-aligned-block" data-block="true" data-editor="145ki" data-offset-key="d7h6k-0-0" style="margin: 0px\; padding: 0px\; border: 0px\; box-sizing: border-box\; color: rgb(0\, 0\, 0)\; font-family: Lato\, helvetica\, arial\, sans-serif\; font-size: 16px\; white-space: pre-wrap\; background-color: rgb(244\, 248\, 249)\;">\n<div class="public-DraftStyleDefault-block public-DraftStyleDefault-ltr" data-offset-key="d7h6k-0-0" style="margin: 0.75rem 0px\; padding: 0px\; border: 0px\; box-sizing: border-box\; position: relative\; direction: ltr\; text-align: inherit\;"><span data-offset-key="d7h6k-0-0" style="margin: 0px\; padding: 0px\; border: 0px\; box-sizing: border-box\; color: rgb(51\, 51\, 50)\;">Register now for the ICCE Member Zoom Calls! The Iowa Chamber of Commerce Executives will be holding zoom calls this week to help you connect with your peers and discuss working in the chamber world.</span><span data-offset-key="d7h6k-0-1" style="margin: 0px\; padding: 0px\; border: 0px\; box-sizing: border-box\;"> </span></div>\n</div>\n\n<div class="carina-rte-left-aligned-block" data-block="true" data-editor="145ki" data-offset-key="5dj5j-0-0" style="margin: 0px\; padding: 0px\; border: 0px\; box-sizing: border-box\; color: rgb(0\, 0\, 0)\; font-family: Lato\, helvetica\, arial\, sans-serif\; font-size: 16px\; white-space: pre-wrap\; background-color: rgb(244\, 248\, 249)\;">\n<div class="public-DraftStyleDefault-block public-DraftStyleDefault-ltr" data-offset-key="5dj5j-0-0" style="margin: 0.75rem 0px\; padding: 0px\; border: 0px\; box-sizing: border-box\; position: relative\; direction: ltr\; text-align: inherit\;"><span data-offset-key="5dj5j-0-0" style="margin: 0px\; padding: 0px\; border: 0px\; box-sizing: border-box\; color: rgb(51\, 51\, 50)\;">Calls will be facilitated by a member of the ICCE Board of Directors and broken out by community size.</span></div>\n</div>\n\n<div class="carina-rte-left-aligned-block" data-block="true" data-editor="145ki" data-offset-key="5gjpt-0-0" style="margin: 0px\; padding: 0px\; border: 0px\; box-sizing: border-box\; color: rgb(0\, 0\, 0)\; font-family: Lato\, helvetica\, arial\, sans-serif\; font-size: 16px\; white-space: pre-wrap\; background-color: rgb(244\, 248\, 249)\;">\n<div class="public-DraftStyleDefault-block public-DraftStyleDefault-ltr" data-offset-key="5gjpt-0-0" style="margin: 0.75rem 0px\; padding: 0px\; border: 0px\; box-sizing: border-box\; position: relative\; direction: ltr\; text-align: inherit\;"><span data-offset-key="5gjpt-0-0" style="margin: 0px\; padding: 0px\; border: 0px\; box-sizing: border-box\; color: rgb(51\, 51\, 50)\;">If you are interested in participating\, please register for the call you would like to attend. Please feel free to join more than one call if it makes sense for your community.<br />\n<br />\n<a href="http://https://capture.zoom.us/meeting/register/tJIkdeytpj8tG9M2MSH0EM2uYq2gnbmOsGah" target="_blank">Register</a></span></div>\n</div>\n
LOCATION:Virtual
UID:e.1466.529
SEQUENCE:3
DTSTAMP:20260424T015205Z
URL:https://business.iowachamber.net/events/details/iowa-chamber-of-commerce-executives-membership-call-25-000-03-10-2021-529
END:VEVENT

END:VCALENDAR
