BEGIN:VCALENDAR
VERSION:2.0
PRODID:-//ChamberMaster//Event Calendar 2.0//EN
METHOD:PUBLISH
X-PUBLISHED-TTL:P3D
REFRESH-INTERVAL:P3D
CALSCALE:GREGORIAN
BEGIN:VEVENT
DTSTART:20260128T150000Z
DTEND:20260128T160000Z
X-MICROSOFT-CDO-ALLDAYEVENT:FALSE
SUMMARY:IACC January Roundtable | Chamber Sponsored Trips & Travel
DESCRIPTION:Join the Iowa Association of Chamber of Commerce for our January Roundtable\, held virtually via Zoom on January 28\, 2026. This interactive discussion will focus on chamber-sponsored trips and travel\, including how chambers plan\, promote\, and manage these opportunities successfully.\n\nParticipants will share best practices\, lessons learned\, and tips for maximizing member engagement while navigating logistics\, partnerships\, and risk considerations. Whether your chamber currently offers travel programs or is exploring the idea\, this roundtable will provide valuable insights and peer-to-peer conversation.\n\nThis session is designed to be collaborative and informal\, with plenty of time for questions\, discussion\, and idea sharing.
X-ALT-DESC;FMTTYPE=text/html:<p data-end="493" data-start="191">Join the Iowa Association of Chamber of Commerce&nbsp\;for our <strong>January Roundtable\, held virtually via Zoom on January 28\, 2026</strong>. This interactive discussion will focus on <strong>chamber-sponsored trips and travel</strong>\, including how chambers plan\, promote\, and manage these opportunities successfully.</p>\n\n<p data-end="818" data-start="495">Participants will share best practices\, lessons learned\, and tips for maximizing member engagement while navigating logistics\, partnerships\, and risk considerations. Whether your chamber currently offers travel programs or is exploring the idea\, this roundtable will provide valuable insights and peer-to-peer conversation.</p>\n\n<p data-end="943" data-start="820">This session is designed to be collaborative and informal\, with plenty of time for questions\, discussion\, and idea sharing.</p>\n
LOCATION:Virtual via Zoom
UID:e.1466.699
SEQUENCE:3
DTSTAMP:20260420T013622Z
URL:https://business.iowachamber.net/events/details/iacc-january-roundtable-chamber-sponsored-trips-travel-699
END:VEVENT

END:VCALENDAR
