BEGIN:VCALENDAR
VERSION:2.0
PRODID:-//ChamberMaster//Event Calendar 2.0//EN
METHOD:PUBLISH
X-PUBLISHED-TTL:P3D
REFRESH-INTERVAL:P3D
CALSCALE:GREGORIAN
BEGIN:VEVENT
DTSTART:20251008T150000Z
DTEND:20251009T190000Z
X-MICROSOFT-CDO-ALLDAYEVENT:FALSE
SUMMARY:IACC Fall Conference
DESCRIPTION:Registration OPEN for the 2025 IACC Fall Conference! \n\nOctober 8-9\, 2025 | Indianola\, IA\n\n\n\nClick Here to View Agenda\n\nClick Here to Register\n\n\nHotel Information for IACC 2025\nDates:\n\nThe group promo code is valid for reservations on October 7th and 10th\, 2025.\n\n\n\nGuests can book by calling the hotel directly or by using the online reservation link below. Be sure to mention the IACC promo code to receive the special group rate!\n\nHotel Direct Number: 515-961-0551\n\nPromo Code: IACC\n\nOnline Booking Link: Book Your Stay\n\n\n\nClick Here to Book Hotel Room
X-ALT-DESC;FMTTYPE=text/html:<div style="text-align: center\;"><span style="font-size:16px\;"><strong>Registration OPEN for the 2025 IACC Fall Conference!&nbsp\;</strong><br />\nOctober 8-9\, 2025 | Indianola\, IA<br />\n<br />\n<a href="https://www.iowachamber.net/iacc-fall-conference/">Click Here to View Agenda</a><br />\n<a href="https://2025iaccfallconference.eventify.io/t2/tickets">Click Here to Register</a></span>\n<h3 data-end="103" data-start="68"><br />\n<span style="font-size:18px\;"><span style="color:#008000\;"><u><strong>Hotel Information for IACC 2025</strong></u></span></span></h3>\n<span style="font-size:14px\;"><strong data-end="115" data-start="105">Dates:</strong><br />\nThe group promo code is valid for reservations on <strong data-end="198" data-start="168">October 7th and 10th\, 2025</strong>.<br />\n<br />\nGuests can book by calling the hotel directly or by using the online reservation link below. Be sure to mention the <strong data-end="344" data-start="336">IACC</strong> promo code to receive the special group rate!<br />\n<strong data-end="418" data-start="394">Hotel Direct Number:</strong> 515-961-0551<br />\n<strong data-end="451" data-start="436">Promo Code:</strong> IACC<br />\n<strong data-end="485" data-start="461">Online Booking Link:</strong> <a data-end="618" data-start="486" href="https://hotels.cloudbeds.com/en/reservation/GibaXA/?currency=usd&amp\;checkin=2025-10-08&amp\;checkout=2025-10-10&amp\;promo=IACC" rel="noopener" target="_new">Book Your Stay</a></span><br />\n<br />\n<span style="font-size:16px\;"><a href="https://hotels.cloudbeds.com/en/reservation/GibaXA/?currency=usd&amp\;checkin=2025-10-08&amp\;checkout=2025-10-10&amp\;promo=IACC">Click Here to Book Hotel Room</a></span><br />\n&nbsp\;\n<div style="text-align: left\;">&nbsp\;</div>\n</div>\n
LOCATION:Indianola\, Iowa
UID:e.1466.694
SEQUENCE:3
DTSTAMP:20260422T115143Z
URL:https://business.iowachamber.net/events/details/iacc-fall-conference-694
END:VEVENT

END:VCALENDAR
