BEGIN:VCALENDAR
VERSION:2.0
PRODID:-//ChamberMaster//Event Calendar 2.0//EN
METHOD:PUBLISH
X-PUBLISHED-TTL:P3D
REFRESH-INTERVAL:P3D
CALSCALE:GREGORIAN
BEGIN:VEVENT
DTSTART:20240918T163000Z
DTEND:20240918T173000Z
X-MICROSOFT-CDO-ALLDAYEVENT:FALSE
SUMMARY:G&A Partners Lunch & Learn
DESCRIPTION:Do you need health insurance? Are you interested in learning more about the IACC Affinity Program?\n\n\n\nThis opportunity is for health insurance benefits for individuals and staff!\n\n\n\nHere is your chance to learn more! Meet with Rene from G&A Partners virtually to discuss all the details and benefits of this exciting initiative. This opportunity is for health insurance benefits for individuals and staff! Rene is ready to provide you with all the insights and answer any questions you might have about health insurance and opportunities.
X-ALT-DESC;FMTTYPE=text/html:Do you need health insurance? Are you interested in learning more about the IACC Affinity Program?<br />\n<br />\n<strong>This opportunity is for health insurance benefits for individuals and staff!</strong><br />\n<br />\nHere is your chance to learn more! Meet with Rene from G&amp\;A Partners virtually to discuss all the details and benefits of this exciting initiative. This opportunity is for health insurance benefits for individuals and staff! Rene is ready to provide you with all the insights and answer any questions you might have about health insurance and opportunities.&nbsp\;
LOCATION:
UID:e.1466.676
SEQUENCE:3
DTSTAMP:20260426T020428Z
URL:https://business.iowachamber.net/events/details/g-a-partners-lunch-learn-676
END:VEVENT

END:VCALENDAR
